BEGIN:VCALENDAR
VERSION:2.0
PRODID:-//Plone.org//NONSGML plone.app.event//EN
X-WR-TIMEZONE:America/Toronto
BEGIN:VEVENT
SUMMARY:Multimodal generative installations and interactive music system
DTSTART;TZID=America/Montreal;VALUE=DATE-TIME:20160629T140000
DTEND;TZID=America/Montreal;VALUE=DATE-TIME:20160630T160000
DTSTAMP;VALUE=DATE-TIME:20260421T193241Z
UID:6d7154f8f6eb47b8805c27b5adef1c95@project_zeoclients
CREATED;VALUE=DATE-TIME:20210321T215530Z
DESCRIPTION:This CIRMMT Research Workshop is organized by Jonatas Manzolli
  in collaboration with IDMIL and the Research Axis 1 -Instruments\, device
 s and systems- and will be held in A820\, on 8th floor of the New Music Bu
 ilding of McGill University. \nNo registration is required.
LAST-MODIFIED;VALUE=DATE-TIME:20210321T215530Z
LOCATION:A820\, New Music Building\, 527 Sherbrooke St. West.
URL:https://www.cirmmt.org/en/events/workshops/research/Multimodal%20gener
 ative%20installations%20workshop%20Manzolli
END:VEVENT
BEGIN:VTIMEZONE
TZID:America/Montreal
X-LIC-LOCATION:America/Montreal
BEGIN:DAYLIGHT
DTSTART;VALUE=DATE-TIME:20160313T030000
TZNAME:EDT
TZOFFSETFROM:-0500
TZOFFSETTO:-0400
END:DAYLIGHT
END:VTIMEZONE
END:VCALENDAR
