BEGIN:VCALENDAR
VERSION:2.0
PRODID:-//Plone.org//NONSGML plone.app.event//EN
X-WR-TIMEZONE:America/Toronto
BEGIN:VEVENT
SUMMARY:Workshop on SIMSSA (Single Interface for Music Score Searching and
  Analysis) X
DTSTART;TZID=America/Montreal;VALUE=DATE-TIME:20160924T093000
DTEND;TZID=America/Montreal;VALUE=DATE-TIME:20160924T150000
DTSTAMP;VALUE=DATE-TIME:20260421T190453Z
UID:d89d76f2d1cb45a69772c7e28b9894c4@project_zeoclients
CREATED;VALUE=DATE-TIME:20210321T215531Z
DESCRIPTION:This workshop is organized by CIRMMT Research Axis 2 (Music in
 formation research). It will take place on Saturday\, September 24\, 2016\
 , in A832 (New Music Building). This workshop is free and open to all. Reg
 istration is required. \n\n\n
LAST-MODIFIED;VALUE=DATE-TIME:20210321T215532Z
LOCATION:A832\, New Music Building\, 527 Sherbrooke St. West.
URL:https://www.cirmmt.org/en/events/workshops/research/SIMSSA_X
END:VEVENT
BEGIN:VTIMEZONE
TZID:America/Montreal
X-LIC-LOCATION:America/Montreal
BEGIN:DAYLIGHT
DTSTART;VALUE=DATE-TIME:20160313T030000
TZNAME:EDT
TZOFFSETFROM:-0500
TZOFFSETTO:-0400
END:DAYLIGHT
END:VTIMEZONE
END:VCALENDAR
