BEGIN:VCALENDAR
VERSION:2.0
PRODID:-//Plone.org//NONSGML plone.app.event//EN
X-WR-TIMEZONE:America/Toronto
BEGIN:VEVENT
SUMMARY:Workshop on Three-dimensional Immersive Audio
DTSTART;TZID=America/Montreal;VALUE=DATE-TIME:20160420T090000
DTEND;TZID=America/Montreal;VALUE=DATE-TIME:20160420T140000
DTSTAMP;VALUE=DATE-TIME:20260421T190611Z
UID:136c116de9f444ac93b96561ff0522c8@project_zeoclients
CREATED;VALUE=DATE-TIME:20210321T215532Z
DESCRIPTION:This workshop is organized by Research Axis 1 -Instruments\, d
 evices and systems- and will be held in A832\, on 8th floor of the New Mus
 ic Building of McGill University. \nRegistration is required.
LAST-MODIFIED;VALUE=DATE-TIME:20210321T215532Z
LOCATION:A832\, New Music Building\, 527 Sherbrooke St. West.
URL:https://www.cirmmt.org/en/events/workshops/research/Three-dimensional-
 immersive-audio
END:VEVENT
BEGIN:VTIMEZONE
TZID:America/Montreal
X-LIC-LOCATION:America/Montreal
BEGIN:DAYLIGHT
DTSTART;VALUE=DATE-TIME:20160313T030000
TZNAME:EDT
TZOFFSETFROM:-0500
TZOFFSETTO:-0400
END:DAYLIGHT
END:VTIMEZONE
END:VCALENDAR
