BEGIN:VCALENDAR
VERSION:2.0
PRODID:-//Plone.org//NONSGML plone.app.event//EN
X-WR-TIMEZONE:America/Toronto
BEGIN:VEVENT
SUMMARY:Annea Lockwood’s field recording and soundscape composition prac
 tice
DTSTART;TZID=America/Toronto;VALUE=DATE-TIME:20240124T110000
DTEND;TZID=America/Toronto;VALUE=DATE-TIME:20240124T120000
DTSTAMP;VALUE=DATE-TIME:20260421T081725Z
UID:0f1da99df2d14bd08c4186eaa0e6ddf1@project_zeoclients
CONTACT:info[AT]cirmmt[DOT]org\, info@cirmmt.org
CREATED;VALUE=DATE-TIME:20240110T165645Z
DESCRIPTION:This workshop builds up on Annea Lockwood's Distinguished Lect
 ure\, and is organized by CIRMMT Research Axis 4.
LAST-MODIFIED;VALUE=DATE-TIME:20240110T172054Z
LOCATION:Salle Papineau-Couture (B-421)\, Faculté de musique\, Universit
 é de Montréal
URL:https://www.cirmmt.org/en/events/workshops/research/annea-lockwood-wor
 kshop
END:VEVENT
BEGIN:VTIMEZONE
TZID:America/Toronto
X-LIC-LOCATION:America/Toronto
BEGIN:STANDARD
DTSTART;VALUE=DATE-TIME:20231105T010000
TZNAME:EST
TZOFFSETFROM:-0400
TZOFFSETTO:-0500
END:STANDARD
END:VTIMEZONE
END:VCALENDAR
