BEGIN:VCALENDAR
VERSION:2.0
PRODID:-//Plone.org//NONSGML plone.app.event//EN
X-WR-TIMEZONE:America/Toronto
BEGIN:VEVENT
SUMMARY:CIRMMT Musical Information Archiving and Retrieval (Axis 3) Worksh
 op 
DTSTART;TZID=America/Montreal;VALUE=DATE-TIME:20080208T140000
DTEND;TZID=America/Montreal;VALUE=DATE-TIME:20080208T190000
DTSTAMP;VALUE=DATE-TIME:20260422T042914Z
UID:610bf12ce8d548f5952202cac4d349e6@project_zeoclients
CREATED;VALUE=DATE-TIME:20210321T215534Z
DESCRIPTION:This workshop\, with invited guests Elaine Chew and Alexandre 
 François (both from University of Southern California)\, will take place 
 at McGill University on Friday\, February 8th 2008.
LAST-MODIFIED;VALUE=DATE-TIME:20210321T215535Z
LOCATION:A832\, New Music Building\, McGill University (527 Sherbrooke St.
  West).
URL:https://www.cirmmt.org/en/events/workshops/research/axis3-feb
END:VEVENT
BEGIN:VTIMEZONE
TZID:America/Montreal
X-LIC-LOCATION:America/Montreal
BEGIN:STANDARD
DTSTART;VALUE=DATE-TIME:20071104T010000
TZNAME:EST
TZOFFSETFROM:-0400
TZOFFSETTO:-0500
END:STANDARD
END:VTIMEZONE
END:VCALENDAR
