BEGIN:VCALENDAR
VERSION:2.0
PRODID:-//Plone.org//NONSGML plone.app.event//EN
X-WR-TIMEZONE:America/Toronto
BEGIN:VEVENT
SUMMARY:Workshop: Beta Lyræ: Multimedia scores
DTSTART;TZID=America/Montreal;VALUE=DATE-TIME:20190219T163000
DTEND;TZID=America/Montreal;VALUE=DATE-TIME:20190219T183000
DTSTAMP;VALUE=DATE-TIME:20260421T175510Z
UID:3ec5afca243944a18283c776df2986a5@project_zeoclients
CREATED;VALUE=DATE-TIME:20210321T215536Z
DESCRIPTION:A Research Axis 4 (Expanded musical practice) workshop. This w
 orkshop is free and open to all.\n
LAST-MODIFIED;VALUE=DATE-TIME:20210321T215536Z
LOCATION:A807\, CIRMMT\, Elizabeth Wirth Music Building\, 527 Sherbrooke S
 t. W.
URL:https://www.cirmmt.org/en/events/workshops/research/betalyrae2/ra4-bet
 alyrae2
END:VEVENT
BEGIN:VTIMEZONE
TZID:America/Montreal
X-LIC-LOCATION:America/Montreal
BEGIN:STANDARD
DTSTART;VALUE=DATE-TIME:20181104T010000
TZNAME:EST
TZOFFSETFROM:-0400
TZOFFSETTO:-0500
END:STANDARD
END:VTIMEZONE
END:VCALENDAR
