BEGIN:VCALENDAR
VERSION:2.0
PRODID:-//Plone.org//NONSGML plone.app.event//EN
X-WR-TIMEZONE:America/Toronto
BEGIN:VEVENT
SUMMARY:The World of Buchla Controllers
DTSTART;TZID=America/Toronto;VALUE=DATE-TIME:20240213T133000
DTEND;TZID=America/Toronto;VALUE=DATE-TIME:20240213T180000
DTSTAMP;VALUE=DATE-TIME:20260421T080620Z
UID:9fb7abeb0ff94a72acea68eb22700020@project_zeoclients
CONTACT:info[AT]cirmmt[DOT]org\, info@cirmmt.org
CREATED;VALUE=DATE-TIME:20240209T193431Z
DESCRIPTION:This workshop will revolve around the various developments and
  ideas for gestural controllers / musical interfaces and instruments by Do
 nald Buchla (1947 - 2016).
LAST-MODIFIED;VALUE=DATE-TIME:20240209T195417Z
LOCATION:A-832\, 8th floor\, Elizabeth Wirth Music Building\, 527 Sherbroo
 ke O.
URL:https://www.cirmmt.org/en/events/workshops/research/buchla-controllers
 -workshop
END:VEVENT
BEGIN:VTIMEZONE
TZID:America/Toronto
X-LIC-LOCATION:America/Toronto
BEGIN:STANDARD
DTSTART;VALUE=DATE-TIME:20231105T010000
TZNAME:EST
TZOFFSETFROM:-0400
TZOFFSETTO:-0500
END:STANDARD
END:VTIMEZONE
END:VCALENDAR
