BEGIN:VCALENDAR
VERSION:2.0
PRODID:-//Plone.org//NONSGML plone.app.event//EN
X-WR-TIMEZONE:America/Toronto
BEGIN:VEVENT
SUMMARY:Causerie déjeuner techno: Sound\, music & health
DTSTART;TZID=America/Montreal;VALUE=DATE-TIME:20171115T081500
DTEND;TZID=America/Montreal;VALUE=DATE-TIME:20171115T100000
DTSTAMP;VALUE=DATE-TIME:20260421T175947Z
UID:3ffcdf49952446cf8d53e9d770e0de16@project_zeoclients
CREATED;VALUE=DATE-TIME:20210321T215537Z
DESCRIPTION:This workshop is a collaboration between CIRMMT\, PROMPT and T
 echnoMontréal. It is free and open to all. Registration is required.
LAST-MODIFIED;VALUE=DATE-TIME:20210321T215537Z
LOCATION:A832\, Elizabeth Wirth Music Building\, 527 Sherbrooke St. West
URL:https://www.cirmmt.org/en/events/workshops/research/causerie-dejeuner-
 techno/dej-techno
END:VEVENT
BEGIN:VTIMEZONE
TZID:America/Montreal
X-LIC-LOCATION:America/Montreal
BEGIN:STANDARD
DTSTART;VALUE=DATE-TIME:20171105T010000
TZNAME:EST
TZOFFSETFROM:-0400
TZOFFSETTO:-0500
END:STANDARD
END:VTIMEZONE
END:VCALENDAR
