BEGIN:VCALENDAR
VERSION:2.0
PRODID:-//Plone.org//NONSGML plone.app.event//EN
X-WR-TIMEZONE:America/Toronto
BEGIN:VEVENT
SUMMARY:Bridging music inclusion through conversations with music tech res
 earchers\, Deaf\, and CODA* artists [*Child of Deaf Adult]
DTSTART;TZID=America/Toronto;VALUE=DATE-TIME:20241101T130000
DTEND;TZID=America/Toronto;VALUE=DATE-TIME:20241101T160000
DTSTAMP;VALUE=DATE-TIME:20260421T134404Z
UID:2e1d1832cc224fb99ba092fb6802a133@project_zeoclients
CREATED;VALUE=DATE-TIME:20241002T133933Z
DESCRIPTION:An event organized in collaboration with CIRMMT Research Axis 
 1 (Instruments\, devices & systems) and Research Axis 3 (Cognition\, perce
 ption and movement)
LAST-MODIFIED;VALUE=DATE-TIME:20241017T160235Z
LOCATION:Room A832 (8th floor) Elizabeth Wirth Music Building\, 527 Sherbr
 ooke St. W.
URL:https://www.cirmmt.org/en/events/workshops/research/coda-1-nov-2024
END:VEVENT
BEGIN:VTIMEZONE
TZID:America/Toronto
X-LIC-LOCATION:America/Toronto
BEGIN:DAYLIGHT
DTSTART;VALUE=DATE-TIME:20240310T030000
TZNAME:EDT
TZOFFSETFROM:-0500
TZOFFSETTO:-0400
END:DAYLIGHT
END:VTIMEZONE
END:VCALENDAR
