BEGIN:VCALENDAR
VERSION:2.0
PRODID:-//Plone.org//NONSGML plone.app.event//EN
X-WR-TIMEZONE:America/Toronto
BEGIN:VEVENT
SUMMARY:Workshop on the cognitive foundations of pitch\, time and timbre i
 n music
DTSTART;TZID=America/Toronto;VALUE=DATE-TIME:20221104T120000
DTEND;TZID=America/Toronto;VALUE=DATE-TIME:20221104T160000
DTSTAMP;VALUE=DATE-TIME:20260423T071056Z
UID:06008a5229f04c68bcb1a9628c479751@project_zeoclients
CONTACT:info[AT]cirmmt.org
CREATED;VALUE=DATE-TIME:20221019T152547Z
DESCRIPTION:An event organized in collaboration with Research Axis 3 (Cogn
 ition\, perception and movement)
LAST-MODIFIED;VALUE=DATE-TIME:20221103T171202Z
LOCATION:A-832 (8th floor)\, 527 Sherbrooke O.
URL:https://www.cirmmt.org/en/events/workshops/research/cognitive-foundati
 ons
END:VEVENT
BEGIN:VTIMEZONE
TZID:America/Toronto
X-LIC-LOCATION:America/Toronto
BEGIN:DAYLIGHT
DTSTART;VALUE=DATE-TIME:20220313T030000
TZNAME:EDT
TZOFFSETFROM:-0500
TZOFFSETTO:-0400
END:DAYLIGHT
END:VTIMEZONE
END:VCALENDAR
