BEGIN:VCALENDAR
VERSION:2.0
PRODID:-//Plone.org//NONSGML plone.app.event//EN
X-WR-TIMEZONE:America/Toronto
BEGIN:VEVENT
SUMMARY:Workshop & masterclass on digital lutherie and augmented instrumen
 ts design
DTSTART;TZID=America/Toronto;VALUE=DATE-TIME:20220912T103000
DTEND;TZID=America/Toronto;VALUE=DATE-TIME:20220912T143000
DTSTAMP;VALUE=DATE-TIME:20260421T133143Z
UID:e4e718c000584a3585755d4f22b028aa@project_zeoclients
CONTACT:info [AT] cirmmt.org
CREATED;VALUE=DATE-TIME:20210321T215617Z
DESCRIPTION:An event organized in collaboration with Research Axis 3 (Cogn
 ition\, perception and movement) and 4 (Expanded musical practice).
LAST-MODIFIED;VALUE=DATE-TIME:20220907T182058Z
LOCATION:A832\, Elizabeth Wirth Music Building\, 527 Sherbrooke St. W.
URL:https://www.cirmmt.org/en/events/workshops/research/digital_lutherie_w
 orkshop
END:VEVENT
BEGIN:VTIMEZONE
TZID:America/Toronto
X-LIC-LOCATION:America/Toronto
BEGIN:DAYLIGHT
DTSTART;VALUE=DATE-TIME:20220313T030000
TZNAME:EDT
TZOFFSETFROM:-0500
TZOFFSETTO:-0400
END:DAYLIGHT
END:VTIMEZONE
END:VCALENDAR
