BEGIN:VCALENDAR
VERSION:2.0
PRODID:-//Plone.org//NONSGML plone.app.event//EN
X-WR-TIMEZONE:America/Toronto
BEGIN:VEVENT
SUMMARY:Egyptian Divinities and Canadian Spectra: Analyzing and Performing
  Anubis-Nout by Gérard Grisey
DTSTART;TZID=America/Montreal;VALUE=DATE-TIME:20170209T163000
DTEND;TZID=America/Montreal;VALUE=DATE-TIME:20170209T180000
DTSTAMP;VALUE=DATE-TIME:20260421T210132Z
UID:0d886d482e194115b9938e572bd5d8a9@project_zeoclients
CREATED;VALUE=DATE-TIME:20210321T215540Z
DESCRIPTION:This CIRMMT Research Workshop is organized by CIRMMT Research 
 Axis 4 - Expanded Musical Practice. It will take place on Thursday\, Febru
 ary 9\, 2017\, in Clara Lichtenstein Hall of the Schulich School of Music.
  This workshop is free and open to all. No registration is required.
LAST-MODIFIED;VALUE=DATE-TIME:20210321T215541Z
LOCATION:Clara Lichtenstein Hall\, 555 Sherbrooke St W
URL:https://www.cirmmt.org/en/events/workshops/research/egyptian_divinitie
 s_canadian_spectra
END:VEVENT
BEGIN:VTIMEZONE
TZID:America/Montreal
X-LIC-LOCATION:America/Montreal
BEGIN:STANDARD
DTSTART;VALUE=DATE-TIME:20161106T010000
TZNAME:EST
TZOFFSETFROM:-0400
TZOFFSETTO:-0500
END:STANDARD
END:VTIMEZONE
END:VCALENDAR
