BEGIN:VCALENDAR
VERSION:2.0
PRODID:-//Plone.org//NONSGML plone.app.event//EN
X-WR-TIMEZONE:America/Toronto
BEGIN:VEVENT
SUMMARY:Workshop: The best of haptic worlds
DTSTART;TZID=America/Toronto;VALUE=DATE-TIME:20241018T083000
DTEND;TZID=America/Toronto;VALUE=DATE-TIME:20241018T120000
DTSTAMP;VALUE=DATE-TIME:20260421T122653Z
UID:ec084c2f557c4c83b384832d276df55f@project_zeoclients
CONTACT:info[AT]cirmmt[DOT]org
CREATED;VALUE=DATE-TIME:20241010T134932Z
DESCRIPTION:A workshop on the ethical applications of haptic technologies 
 organized by Les Entretiens Jacques-Cartier in collaboration with CIRMMT.
LAST-MODIFIED;VALUE=DATE-TIME:20250415T135741Z
LOCATION:A-832 (8th floor)\, Elizabeth Wirth Music Building\, 527 Sherbroo
 ke St. W.
URL:https://www.cirmmt.org/en/events/workshops/research/ejc-18-oct-2024
END:VEVENT
BEGIN:VTIMEZONE
TZID:America/Toronto
X-LIC-LOCATION:America/Toronto
BEGIN:DAYLIGHT
DTSTART;VALUE=DATE-TIME:20240310T030000
TZNAME:EDT
TZOFFSETFROM:-0500
TZOFFSETTO:-0400
END:DAYLIGHT
END:VTIMEZONE
END:VCALENDAR
