BEGIN:VCALENDAR
VERSION:2.0
PRODID:-//Plone.org//NONSGML plone.app.event//EN
X-WR-TIMEZONE:America/Toronto
BEGIN:VEVENT
SUMMARY:Workshop on searching symbolic musical data for repeated patterns:
  The ELVIS project - Day 2
DTSTART;TZID=America/Montreal;VALUE=DATE-TIME:20130511T090000
DTEND;TZID=America/Montreal;VALUE=DATE-TIME:20130511T150000
DTSTAMP;VALUE=DATE-TIME:20260421T220744Z
UID:f1a301d4efc14016aa375d81c02a0ff4@project_zeoclients
CREATED;VALUE=DATE-TIME:20210321T215541Z
DESCRIPTION:This two day workshop is co-organized by CIRMMT Research Axis 
 3 (Musical information retrieval\, archiving and analysis) and ELVIS (Elec
 tronic Locator of Vertical Interval Successions). It will take place on Ma
 y 10th in A510\, and on the 11th in A832/833 (New Music Building). This wo
 rkshop is free and open to all. Registration is required. \n
LAST-MODIFIED;VALUE=DATE-TIME:20210321T215541Z
LOCATION:A832 & A833\, New Music Building\, 527 Sherbrooke St. West\, Mont
 real
URL:https://www.cirmmt.org/en/events/workshops/research/elvis/elvis-2
END:VEVENT
BEGIN:VTIMEZONE
TZID:America/Montreal
X-LIC-LOCATION:America/Montreal
BEGIN:DAYLIGHT
DTSTART;VALUE=DATE-TIME:20130310T030000
TZNAME:EDT
TZOFFSETFROM:-0500
TZOFFSETTO:-0400
END:DAYLIGHT
END:VTIMEZONE
END:VCALENDAR
