BEGIN:VCALENDAR
VERSION:2.0
PRODID:-//Plone.org//NONSGML plone.app.event//EN
X-WR-TIMEZONE:America/Toronto
BEGIN:VEVENT
SUMMARY:Who/what gets to steer our attention in an age of ubiquitous heara
 bles?
DTSTART;TZID=America/Toronto;VALUE=DATE-TIME:20231212T120000
DTEND;TZID=America/Toronto;VALUE=DATE-TIME:20231212T143000
DTSTAMP;VALUE=DATE-TIME:20260421T081517Z
UID:a5da051ae3d44dae8a538e146e3934bd@project_zeoclients
CONTACT:info[AT]cirmmt[DOT]org\, info@cirmmt.org
CREATED;VALUE=DATE-TIME:20231127T162120Z
DESCRIPTION:Building on Dr. Gershon Dublon's Distinguished Lecture on Dece
 mber 11\, this workshop\, organized by CIRMMT RA1\, aims to bring together
  researchers in audio\, mixed reality and HCI.
LAST-MODIFIED;VALUE=DATE-TIME:20231127T174824Z
LOCATION:A-832\, 8th floor\, Elizabeth Wirth Music Building\, 527 Sherbroo
 ke O.
URL:https://www.cirmmt.org/en/events/workshops/research/gershon-dublon-wor
 kshop
END:VEVENT
BEGIN:VTIMEZONE
TZID:America/Toronto
X-LIC-LOCATION:America/Toronto
BEGIN:STANDARD
DTSTART;VALUE=DATE-TIME:20231105T010000
TZNAME:EST
TZOFFSETFROM:-0400
TZOFFSETTO:-0500
END:STANDARD
END:VTIMEZONE
END:VCALENDAR
