BEGIN:VCALENDAR
VERSION:2.0
PRODID:-//Plone.org//NONSGML plone.app.event//EN
X-WR-TIMEZONE:America/Toronto
BEGIN:VEVENT
SUMMARY:Workshop on gesture as language
DTSTART;TZID=America/Montreal;VALUE=DATE-TIME:20180314T090000
DTEND;TZID=America/Montreal;VALUE=DATE-TIME:20180314T150000
DTSTAMP;VALUE=DATE-TIME:20260421T175947Z
UID:c07ecf0fa27a42c3a465b7abf0255549@project_zeoclients
CREATED;VALUE=DATE-TIME:20210321T215545Z
DESCRIPTION:A Research Axis 3 (Cognition\, perception and movement) worksh
 op. This workshop is free and open to all.
LAST-MODIFIED;VALUE=DATE-TIME:20210321T215545Z
LOCATION:A832\, Elizabeth Wirth Music Building\, 527 Sherbrooke St. West
URL:https://www.cirmmt.org/en/events/workshops/research/gesture-as-languag
 e/ra3-gesture
END:VEVENT
BEGIN:VTIMEZONE
TZID:America/Montreal
X-LIC-LOCATION:America/Montreal
BEGIN:DAYLIGHT
DTSTART;VALUE=DATE-TIME:20180311T030000
TZNAME:EDT
TZOFFSETFROM:-0500
TZOFFSETTO:-0400
END:DAYLIGHT
END:VTIMEZONE
END:VCALENDAR
