BEGIN:VCALENDAR
VERSION:2.0
PRODID:-//Plone.org//NONSGML plone.app.event//EN
X-WR-TIMEZONE:America/Toronto
BEGIN:VEVENT
SUMMARY:Touch/Machines: Thinking with/through touch technology - an Interd
 isciplinary Workshop on Haptics
DTSTART;TZID=America/Toronto;VALUE=DATE-TIME:20230508T100000
DTEND;TZID=America/Toronto;VALUE=DATE-TIME:20230508T120000
DTSTAMP;VALUE=DATE-TIME:20260421T122143Z
UID:0c1f4cfac183497f9973a5516bc8a8cd@project_zeoclients
CONTACT:info [AT] cirmmt [DOT] org
CREATED;VALUE=DATE-TIME:20230420T153302Z
DESCRIPTION:A workshop co-organized by Jeremy Cooperstock (McGill)\, David
  Parisi (Charleston)\, Mark Paterson (U Pittsburgh)\, and Antoine Weill--D
 uflos (Haply Robotics)\, in conjuction with CIRMMT's RA1 (Instruments\, de
 vices & systems).\nThis workshop seeks to bring engineering perspectives o
 n haptics into conversation with such historical and cultural approaches t
 o the study of digital touch\, with the aim of making these fields’ appr
 oaches mutually legible.
LAST-MODIFIED;VALUE=DATE-TIME:20230505T192753Z
LOCATION:A-832\, 8th floor\, Elizabeth Wirth Music Building\, 527 Sherbroo
 ke O.
URL:https://www.cirmmt.org/en/events/workshops/research/hapticsworkshop
END:VEVENT
BEGIN:VTIMEZONE
TZID:America/Toronto
X-LIC-LOCATION:America/Toronto
BEGIN:DAYLIGHT
DTSTART;VALUE=DATE-TIME:20230312T030000
TZNAME:EDT
TZOFFSETFROM:-0500
TZOFFSETTO:-0400
END:DAYLIGHT
END:VTIMEZONE
END:VCALENDAR
