BEGIN:VCALENDAR
VERSION:2.0
PRODID:-//Plone.org//NONSGML plone.app.event//EN
X-WR-TIMEZONE:America/Toronto
BEGIN:VEVENT
SUMMARY:Workshop on Higher order ambisonics coding in supercollider for co
 mposers
DTSTART;TZID=America/Montreal;VALUE=DATE-TIME:20170316T141500
DTEND;TZID=America/Montreal;VALUE=DATE-TIME:20170316T180000
DTSTAMP;VALUE=DATE-TIME:20260421T182441Z
UID:9846bb8c6f664d5089a69aa682019b46@project_zeoclients
CREATED;VALUE=DATE-TIME:20210321T215546Z
DESCRIPTION:This CIRMMT Research Workshop is organized by CIRMMT Research 
 Axis 4 - Expanded Musical Practice and is hosted by Florian Grond and Pier
 re Lacomte. This workshop is free and open to all. No registration is requ
 ired.
LAST-MODIFIED;VALUE=DATE-TIME:20210321T215546Z
LOCATION:A-832\, Elizabeth Wirth Music Building
URL:https://www.cirmmt.org/en/events/workshops/research/higher-order-ambis
 onics-coding-in-supercollider-for-composers
END:VEVENT
BEGIN:VTIMEZONE
TZID:America/Montreal
X-LIC-LOCATION:America/Montreal
BEGIN:DAYLIGHT
DTSTART;VALUE=DATE-TIME:20170312T030000
TZNAME:EDT
TZOFFSETFROM:-0500
TZOFFSETTO:-0400
END:DAYLIGHT
END:VTIMEZONE
END:VCALENDAR
