BEGIN:VCALENDAR
VERSION:2.0
PRODID:-//Plone.org//NONSGML plone.app.event//EN
X-WR-TIMEZONE:America/Toronto
BEGIN:VEVENT
SUMMARY:IAM-CIRMMT series\, #10: Sound design practices for open worlds
DTSTART;TZID=America/Montreal;VALUE=DATE-TIME:20190919T180000
DTEND;TZID=America/Montreal;VALUE=DATE-TIME:20190919T203000
DTSTAMP;VALUE=DATE-TIME:20260421T163258Z
UID:9ce70ab9e1724271a5ab8f94731a25a3@project_zeoclients
CREATED;VALUE=DATE-TIME:20210321T215548Z
DESCRIPTION:This workshop is a collaboration between CIRMMT (RA1 - Instrum
 ents\, devices and systems) and Interactive Audio Montreal. It is free and
  open to all. Registration will be required.
LAST-MODIFIED;VALUE=DATE-TIME:20210321T215548Z
LOCATION:A832/833\, Elizabeth Wirth Music Building\, 527 Sherbrooke St W
URL:https://www.cirmmt.org/en/events/workshops/research/iam-10-sep19/iam10
END:VEVENT
BEGIN:VTIMEZONE
TZID:America/Montreal
X-LIC-LOCATION:America/Montreal
BEGIN:DAYLIGHT
DTSTART;VALUE=DATE-TIME:20190310T030000
TZNAME:EDT
TZOFFSETFROM:-0500
TZOFFSETTO:-0400
END:DAYLIGHT
END:VTIMEZONE
END:VCALENDAR
