BEGIN:VCALENDAR
VERSION:2.0
PRODID:-//Plone.org//NONSGML plone.app.event//EN
X-WR-TIMEZONE:America/Toronto
BEGIN:VEVENT
SUMMARY:IAM-CIRMMT series\, #12: Archiving video game sound
DTSTART;TZID=America/Montreal;VALUE=DATE-TIME:20200213T180000
DTEND;TZID=America/Montreal;VALUE=DATE-TIME:20200213T203000
DTSTAMP;VALUE=DATE-TIME:20260421T151249Z
UID:a0c45feace5744fab3039cf8c74ef2a9@project_zeoclients
CREATED;VALUE=DATE-TIME:20210321T215549Z
DESCRIPTION:This workshop is a collaboration between CIRMMT (RA1 - Instrum
 ents\, devices and systems) and Interactive Audio Montreal. It is free and
  open to all. Registration will be required.
LAST-MODIFIED;VALUE=DATE-TIME:20210321T215549Z
LOCATION:A832/833\, Elizabeth Wirth Music Building\, 527 Sherbrooke St W
URL:https://www.cirmmt.org/en/events/workshops/research/iam-12-jan16/iam12
END:VEVENT
BEGIN:VTIMEZONE
TZID:America/Montreal
X-LIC-LOCATION:America/Montreal
BEGIN:STANDARD
DTSTART;VALUE=DATE-TIME:20191103T010000
TZNAME:EST
TZOFFSETFROM:-0400
TZOFFSETTO:-0500
END:STANDARD
END:VTIMEZONE
END:VCALENDAR
