BEGIN:VCALENDAR
VERSION:2.0
PRODID:-//Plone.org//NONSGML plone.app.event//EN
X-WR-TIMEZONE:America/Toronto
BEGIN:VEVENT
SUMMARY:IAM@CIRMMT#33—The Audio of Lynked Banner of the Spark: Crafting 
 the soundscape for an aspirational apocalypse
DTSTART;TZID=America/Toronto;VALUE=DATE-TIME:20251016T180000
DTEND;TZID=America/Toronto;VALUE=DATE-TIME:20251016T210000
DTSTAMP;VALUE=DATE-TIME:20260421T065635Z
UID:87756c44f07a4e779f4e688a40b58681@project_zeoclients
CONTACT:info [AT] cirmmt (DOT] org
CREATED;VALUE=DATE-TIME:20250924T184348Z
DESCRIPTION:A workshop presented by Interactive Audio Montreal (IAM) in co
 llaboration with CIRMMT
LAST-MODIFIED;VALUE=DATE-TIME:20250925T131425Z
LOCATION:A832 (8 floor)\, Elizabeth Wirth Music Building\, 527 Sherbrooke 
 O
URL:https://www.cirmmt.org/en/events/workshops/research/iam-16-oct-2025
END:VEVENT
BEGIN:VTIMEZONE
TZID:America/Toronto
X-LIC-LOCATION:America/Toronto
BEGIN:DAYLIGHT
DTSTART;VALUE=DATE-TIME:20250309T030000
TZNAME:EDT
TZOFFSETFROM:-0500
TZOFFSETTO:-0400
END:DAYLIGHT
END:VTIMEZONE
END:VCALENDAR
