BEGIN:VCALENDAR
VERSION:2.0
PRODID:-//Plone.org//NONSGML plone.app.event//EN
X-WR-TIMEZONE:America/Toronto
BEGIN:VEVENT
SUMMARY:IAM@CIRMMT#32: Roundtable — Within sound: Working with immersion
  in game audio
DTSTART;TZID=America/Toronto;VALUE=DATE-TIME:20250918T180000
DTEND;TZID=America/Toronto;VALUE=DATE-TIME:20250918T210000
DTSTAMP;VALUE=DATE-TIME:20260421T123429Z
UID:2352bb032f844d329040aefb2312969a@project_zeoclients
CONTACT:info [AT] interactivemontreal [DOT] com\, https://www.interactivea
 udiomontreal.com/events
CREATED;VALUE=DATE-TIME:20250829T152440Z
DESCRIPTION:A workshop presented by Interactive Audio Montreal in collabor
 ation with CIRMMT
LAST-MODIFIED;VALUE=DATE-TIME:20250908T185039Z
LOCATION:A832 (8 floor)\, Elizabeth Wirth Music Building\, 527 Sherbrooke 
 O
URL:https://www.cirmmt.org/en/events/workshops/research/iam-18-sep-2025
END:VEVENT
BEGIN:VTIMEZONE
TZID:America/Toronto
X-LIC-LOCATION:America/Toronto
BEGIN:DAYLIGHT
DTSTART;VALUE=DATE-TIME:20250309T030000
TZNAME:EDT
TZOFFSETFROM:-0500
TZOFFSETTO:-0400
END:DAYLIGHT
END:VTIMEZONE
END:VCALENDAR
