BEGIN:VCALENDAR
VERSION:2.0
PRODID:-//Plone.org//NONSGML plone.app.event//EN
X-WR-TIMEZONE:America/Toronto
BEGIN:VEVENT
SUMMARY:IAM@CIRMMT#27: The Outlast Trials – The road from single player
  horror to multiplayer TERROR
DTSTART;TZID=America/Toronto;VALUE=DATE-TIME:20241024T180000
DTEND;TZID=America/Toronto;VALUE=DATE-TIME:20241024T220000
DTSTAMP;VALUE=DATE-TIME:20260421T123123Z
UID:c3b53685e7d74d588cc8c28a78f089ee@project_zeoclients
CONTACT:info[AT]interactiveaudio[DOT]com\, https://www.interactiveaudiomon
 treal.com/events/iam-cirmmt-27-the-outlast-trials
CREATED;VALUE=DATE-TIME:20241017T143436Z
LAST-MODIFIED;VALUE=DATE-TIME:20250415T141334Z
LOCATION:Room A832 (8th floor) Elizabeth Wirth Music Building\, 527 Sherbr
 ooke St. W.
URL:https://www.cirmmt.org/en/events/workshops/research/iam-24-oct-2024
END:VEVENT
BEGIN:VTIMEZONE
TZID:America/Toronto
X-LIC-LOCATION:America/Toronto
BEGIN:DAYLIGHT
DTSTART;VALUE=DATE-TIME:20240310T030000
TZNAME:EDT
TZOFFSETFROM:-0500
TZOFFSETTO:-0400
END:DAYLIGHT
END:VTIMEZONE
END:VCALENDAR
