BEGIN:VCALENDAR
VERSION:2.0
PRODID:-//Plone.org//NONSGML plone.app.event//EN
X-WR-TIMEZONE:America/Toronto
BEGIN:VEVENT
SUMMARY:IAM@CIRMMT#29 – VO and Gameplay Systems: An Exploration
DTSTART;TZID=America/Toronto;VALUE=DATE-TIME:20250227T180000
DTEND;TZID=America/Toronto;VALUE=DATE-TIME:20250227T230000
DTSTAMP;VALUE=DATE-TIME:20260421T111537Z
UID:cbbd335ee58e4452a70ae945a7d7c688@project_zeoclients
CONTACT:info[AT]interactiveaudio[DOT]com\, https://www.interactiveaudiomon
 treal.com/events/iam-cirmmt-29-vo-and-gameplay-systems-an-exploration
CREATED;VALUE=DATE-TIME:20250114T135639Z
DESCRIPTION:Dani Kogan presents on VO and gameplay systems
LAST-MODIFIED;VALUE=DATE-TIME:20250124T185737Z
LOCATION:A832 (8 floor)\, Elizabeth Wirth Music Building\, 527 Sherbrooke 
 O.
URL:https://www.cirmmt.org/en/events/workshops/research/iam-27-feb-2025
END:VEVENT
BEGIN:VTIMEZONE
TZID:America/Toronto
X-LIC-LOCATION:America/Toronto
BEGIN:STANDARD
DTSTART;VALUE=DATE-TIME:20241103T010000
TZNAME:EST
TZOFFSETFROM:-0400
TZOFFSETTO:-0500
END:STANDARD
END:VTIMEZONE
END:VCALENDAR
