BEGIN:VCALENDAR
VERSION:2.0
PRODID:-//Plone.org//NONSGML plone.app.event//EN
X-WR-TIMEZONE:America/Toronto
BEGIN:VEVENT
SUMMARY:IAM@CIRMMT#28: Annual demo derby
DTSTART;TZID=America/Toronto;VALUE=DATE-TIME:20241205T180000
DTEND;TZID=America/Toronto;VALUE=DATE-TIME:20241205T220000
DTSTAMP;VALUE=DATE-TIME:20260421T112742Z
UID:c10d7185841144f792990a87f24ff862@project_zeoclients
CONTACT:info[AT]interactiveaudio[DOT]com\, https://www.interactiveaudiomon
 treal.com/events/iam-cirmmt-28-annual-demo-derby
CREATED;VALUE=DATE-TIME:20241114T161329Z
DESCRIPTION:Our yearly get together to celebrate the local community
LAST-MODIFIED;VALUE=DATE-TIME:20250124T185021Z
LOCATION:A-832 (8th floor)\, Elizabeth Wirth Music Building\, 527 Sherbroo
 ke O.
URL:https://www.cirmmt.org/en/events/workshops/research/iam-5-dec-2024
END:VEVENT
BEGIN:VTIMEZONE
TZID:America/Toronto
X-LIC-LOCATION:America/Toronto
BEGIN:STANDARD
DTSTART;VALUE=DATE-TIME:20241103T010000
TZNAME:EST
TZOFFSETFROM:-0400
TZOFFSETTO:-0500
END:STANDARD
END:VTIMEZONE
END:VCALENDAR
