BEGIN:VCALENDAR
VERSION:2.0
PRODID:-//Plone.org//NONSGML plone.app.event//EN
X-WR-TIMEZONE:America/Toronto
BEGIN:VEVENT
SUMMARY:IAM-CIRMMT Series  #14 - Composing and sound designing for a humor
 ous game - All secrets revealed
DTSTART;TZID=America/Toronto;VALUE=DATE-TIME:20220512T180000
DTEND;TZID=America/Toronto;VALUE=DATE-TIME:20220512T200000
DTSTAMP;VALUE=DATE-TIME:20260421T132714Z
UID:325fbbaef0c14bd0a96dcc5e968a476c@project_zeoclients
CONTACT:cirmmt.info [AT] mcgill.ca
CREATED;VALUE=DATE-TIME:20220328T171437Z
DESCRIPTION:This workshop is a collaboration between CIRMMT (RA1 - Instrum
 ents\, devices and systems) and Interactive Audio Montreal)\, featuring a 
 talk by Léandre Monette\, a Montreal-based composer specialized in video 
 games.
LAST-MODIFIED;VALUE=DATE-TIME:20220330T163503Z
LOCATION:A-832 (8th floor)\, Elizabeth Wirth Music Building\, 527 Rue Sher
 brooke Ouest
URL:https://www.cirmmt.org/en/events/workshops/research/iam-cirmmt-14
END:VEVENT
BEGIN:VTIMEZONE
TZID:America/Toronto
X-LIC-LOCATION:America/Toronto
BEGIN:DAYLIGHT
DTSTART;VALUE=DATE-TIME:20220313T030000
TZNAME:EDT
TZOFFSETFROM:-0500
TZOFFSETTO:-0400
END:DAYLIGHT
END:VTIMEZONE
END:VCALENDAR
