BEGIN:VCALENDAR
VERSION:2.0
PRODID:-//Plone.org//NONSGML plone.app.event//EN
X-WR-TIMEZONE:America/Toronto
BEGIN:VEVENT
SUMMARY:IAM@CIRMMT Series #15 - The music of Rainbow Six Extraction : Buil
 ding blocks to create a constant evolving soundscape
DTSTART;TZID=America/Toronto;VALUE=DATE-TIME:20220616T180000
DTEND;TZID=America/Toronto;VALUE=DATE-TIME:20220616T203000
DTSTAMP;VALUE=DATE-TIME:20260421T132807Z
UID:3e2b21ee3f4f40b389ec3ab1e1d047c8@project_zeoclients
CONTACT:info [AT] cirmmt.org
CREATED;VALUE=DATE-TIME:20220525T155942Z
DESCRIPTION:This workshop is a collaboration between CIRMMT (RA1 - Instrum
 ents\, devices and systems) and Interactive Audio Montreal\, featuring gue
 st speaker Vincent Gagnon\, Audio Director at Ubisoft Montreal
LAST-MODIFIED;VALUE=DATE-TIME:20220525T160445Z
LOCATION:A-832 (8th floor)\, Elizabeth Wirth Music Building\, 527 Rue Sher
 brooke Ouest
URL:https://www.cirmmt.org/en/events/workshops/research/iam-cirmmt-15
END:VEVENT
BEGIN:VTIMEZONE
TZID:America/Toronto
X-LIC-LOCATION:America/Toronto
BEGIN:DAYLIGHT
DTSTART;VALUE=DATE-TIME:20220313T030000
TZNAME:EDT
TZOFFSETFROM:-0500
TZOFFSETTO:-0400
END:DAYLIGHT
END:VTIMEZONE
END:VCALENDAR
