BEGIN:VCALENDAR
VERSION:2.0
PRODID:-//Plone.org//NONSGML plone.app.event//EN
X-WR-TIMEZONE:America/Toronto
BEGIN:VEVENT
SUMMARY:IAM-CIRMMT Series #18 - The Audio Tales of New tales from the Bord
 erlands
DTSTART;TZID=America/Toronto;VALUE=DATE-TIME:20230608T170000
DTEND;TZID=America/Toronto;VALUE=DATE-TIME:20230608T223000
DTSTAMP;VALUE=DATE-TIME:20260421T123118Z
UID:822a86551bb94988a8f883c19df79071@project_zeoclients
ATTENDEE;CN="Antoine Guertin, Audio Designer";ROLE=REQ-PARTICIPANT:Antoine
  Guertin, Audio Designer
ATTENDEE;CN="Christian Pacaud, Audio Designer & Composer";ROLE=REQ-PARTICI
 PANT:Christian Pacaud, Audio Designer & Composer
ATTENDEE;CN="Jonathan Magnan, Audio Director";ROLE=REQ-PARTICIPANT:Jonatha
 n Magnan, Audio Director
CONTACT:info [AT] interactiveaudiomontreal [DOT] com\, http://www.interact
 iveaudiomontreal.com/
CREATED;VALUE=DATE-TIME:20230517T182152Z
DESCRIPTION:How Gearbox Studio - Québec's small audio team\, had to adapt
 \, learn\, and collaborate - in order to create the sounds and music for t
 he narrative interactive game New Tales from the Borderlands. This worksho
 p is a collaboration between CIRMMT (RA1 - Instruments\, devices and syste
 ms) and Interactive Audio Montreal.
LAST-MODIFIED;VALUE=DATE-TIME:20230519T181512Z
LOCATION:A-832\, 8th floor\, 527 Sherbrooke St W\, Montreal\, Quebec H3A 1
 E3
URL:https://www.cirmmt.org/en/events/workshops/research/iam-cirmmt-18
END:VEVENT
BEGIN:VTIMEZONE
TZID:America/Toronto
X-LIC-LOCATION:America/Toronto
BEGIN:DAYLIGHT
DTSTART;VALUE=DATE-TIME:20230312T030000
TZNAME:EDT
TZOFFSETFROM:-0500
TZOFFSETTO:-0400
END:DAYLIGHT
END:VTIMEZONE
END:VCALENDAR
