BEGIN:VCALENDAR
VERSION:2.0
PRODID:-//Plone.org//NONSGML plone.app.event//EN
X-WR-TIMEZONE:America/Toronto
BEGIN:VEVENT
SUMMARY:IAM@CIRMMT #19 - Viviana Caro (EA): Skate's Ambiance System: we're
  working on it
DTSTART;TZID=America/Toronto;VALUE=DATE-TIME:20230921T183000
DTEND;TZID=America/Toronto;VALUE=DATE-TIME:20230921T223000
DTSTAMP;VALUE=DATE-TIME:20260421T123015Z
UID:910d9b49cb0346f2a8999c43acaf35c4@project_zeoclients
CONTACT:Interactive Audio Montreal\, info@interactiveaudiomontreal.com\, h
 ttps://www.interactiveaudiomontreal.com/events/iam-cirmmt-19-viviana-caro
CREATED;VALUE=DATE-TIME:20230830T180153Z
LAST-MODIFIED;VALUE=DATE-TIME:20231016T172445Z
LOCATION:A-832\, 8th floor\, Elizabeth Wirth Music Building\, 527 Sherbroo
 ke O.
URL:https://www.cirmmt.org/en/events/workshops/research/iam-cirmmt-19
END:VEVENT
BEGIN:VTIMEZONE
TZID:America/Toronto
X-LIC-LOCATION:America/Toronto
BEGIN:DAYLIGHT
DTSTART;VALUE=DATE-TIME:20230312T030000
TZNAME:EDT
TZOFFSETFROM:-0500
TZOFFSETTO:-0400
END:DAYLIGHT
END:VTIMEZONE
END:VCALENDAR
