BEGIN:VCALENDAR
VERSION:2.0
PRODID:-//Plone.org//NONSGML plone.app.event//EN
X-WR-TIMEZONE:America/Toronto
BEGIN:VEVENT
SUMMARY:IAM@CIRMMT#21 - Latest Development in Speech and Audio Research fo
 r Video Games at Ubisoft
DTSTART;TZID=America/Toronto;VALUE=DATE-TIME:20231123T180000
DTEND;TZID=America/Toronto;VALUE=DATE-TIME:20231123T220000
DTSTAMP;VALUE=DATE-TIME:20260421T081627Z
UID:3dd6983e35c8452d8836c36024acb721@project_zeoclients
CONTACT:Interactive Audio Montreal\, info@interactiveaudiomontreal.com\, h
 ttps://www.interactiveaudiomontreal.com/events/iam-cirmmt-21-latest-develo
 pment-in-speech-and-audio-research-for-videogames-at-ubisoft
CREATED;VALUE=DATE-TIME:20231031T155810Z
DESCRIPTION:This presentation surveys different new technolgies relating t
 o sound and speech in video games. It presents a series of in-house innova
 tions stemming from the La Forge research lab at Ubisoft.
LAST-MODIFIED;VALUE=DATE-TIME:20231031T180112Z
LOCATION:A-832\, 8th floor\, Elizabeth Wirth Music Building\, 527 Sherbroo
 ke O.
URL:https://www.cirmmt.org/en/events/workshops/research/iam-cirmmt-21
END:VEVENT
BEGIN:VTIMEZONE
TZID:America/Toronto
X-LIC-LOCATION:America/Toronto
BEGIN:STANDARD
DTSTART;VALUE=DATE-TIME:20231105T010000
TZNAME:EST
TZOFFSETFROM:-0400
TZOFFSETTO:-0500
END:STANDARD
END:VTIMEZONE
END:VCALENDAR
