BEGIN:VCALENDAR
VERSION:2.0
PRODID:-//Plone.org//NONSGML plone.app.event//EN
X-WR-TIMEZONE:America/Toronto
BEGIN:VEVENT
SUMMARY:IAM@CIRMMT #22
DTSTART;TZID=America/Toronto;VALUE=DATE-TIME:20240118T180000
DTEND;TZID=America/Toronto;VALUE=DATE-TIME:20240118T220000
DTSTAMP;VALUE=DATE-TIME:20260421T081644Z
UID:2173ecf9f2b94549ac2226f44376a605@project_zeoclients
CONTACT:info[AT]interactiveaudiomontreal.com\, info@interactiveaudiomontre
 al.com\, https://www.interactiveaudiomontreal.com/events/iam-cirmmt-22-ann
 ual-demo-derby
CREATED;VALUE=DATE-TIME:20240110T153055Z
DESCRIPTION:The Interactive Audio Montreal Demo Derby is an annual event  
 showcasing some local talent in the game audio industry and highlighting t
 heir work in a more ludic format.
LAST-MODIFIED;VALUE=DATE-TIME:20240110T160951Z
LOCATION:A-832 (8th floor)\, 527 Sherbrooke St W\, Montreal\, QC H3A 1E3
URL:https://www.cirmmt.org/en/events/workshops/research/iam-cirmmt-22
END:VEVENT
BEGIN:VTIMEZONE
TZID:America/Toronto
X-LIC-LOCATION:America/Toronto
BEGIN:STANDARD
DTSTART;VALUE=DATE-TIME:20231105T010000
TZNAME:EST
TZOFFSETFROM:-0400
TZOFFSETTO:-0500
END:STANDARD
END:VTIMEZONE
END:VCALENDAR
