BEGIN:VCALENDAR
VERSION:2.0
PRODID:-//Plone.org//NONSGML plone.app.event//EN
X-WR-TIMEZONE:America/Toronto
BEGIN:VEVENT
SUMMARY:IAM@CIRMMT#30—33 Immortals: Choose your battles
DTSTART;TZID=America/Toronto;VALUE=DATE-TIME:20250508T180000
DTEND;TZID=America/Toronto;VALUE=DATE-TIME:20250508T220000
DTSTAMP;VALUE=DATE-TIME:20260421T111609Z
UID:b21c19a060874d0ba48366044c2580d5@project_zeoclients
CONTACT:info[AT]interactiveaudiomontreal[DOT]com\, https://www.interactive
 audiomontreal.com/events/iam-cirmmt-30-33-immortals-choose-your-battles
CREATED;VALUE=DATE-TIME:20250408T154645Z
DESCRIPTION:Ulric Corbeil Trudel\, co-founder and studio director at Pixel
  Audio\, presents a deep dive into the audio production of 33 Immortals.
LAST-MODIFIED;VALUE=DATE-TIME:20250408T160650Z
LOCATION:A832 (8 floor)\, Elizabeth Wirth Music Building\, 527 Sherbrooke 
 O
URL:https://www.cirmmt.org/en/events/workshops/research/iam-cirmmt-3020143
 3-immortals-choose-your-battles
END:VEVENT
BEGIN:VTIMEZONE
TZID:America/Toronto
X-LIC-LOCATION:America/Toronto
BEGIN:DAYLIGHT
DTSTART;VALUE=DATE-TIME:20250309T030000
TZNAME:EDT
TZOFFSETFROM:-0500
TZOFFSETTO:-0400
END:DAYLIGHT
END:VTIMEZONE
END:VCALENDAR
