BEGIN:VCALENDAR
VERSION:2.0
PRODID:-//Plone.org//NONSGML plone.app.event//EN
X-WR-TIMEZONE:America/Toronto
BEGIN:VEVENT
SUMMARY:Interactive Audio Montreal (IAM) CIRMMT series
DTSTART;TZID=America/Montreal;VALUE=DATE-TIME:20181206T180000
DTEND;TZID=America/Montreal;VALUE=DATE-TIME:20181206T203000
DTSTAMP;VALUE=DATE-TIME:20260421T164852Z
UID:3d67090286964a93b5d1a7c7c14f0726@project_zeoclients
CREATED;VALUE=DATE-TIME:20210321T215554Z
DESCRIPTION:This 6à8+ workshop is a collaboration between CIRMMT (RA1 - I
 nstruments\, devices and systems) and Interactive Audio Montreal). It is f
 ree and open to all. Registration is required.
LAST-MODIFIED;VALUE=DATE-TIME:20210321T215554Z
LOCATION:A832 & A833\, Elizabeth Wirth Music Building\, 527 Sherbrooke St 
 W
URL:https://www.cirmmt.org/en/events/workshops/research/iam-workshop-serie
 s-nov2018/iam6
END:VEVENT
BEGIN:VTIMEZONE
TZID:America/Montreal
X-LIC-LOCATION:America/Montreal
BEGIN:STANDARD
DTSTART;VALUE=DATE-TIME:20181104T010000
TZNAME:EST
TZOFFSETFROM:-0400
TZOFFSETTO:-0500
END:STANDARD
END:VTIMEZONE
END:VCALENDAR
