BEGIN:VCALENDAR
VERSION:2.0
PRODID:-//Plone.org//NONSGML plone.app.event//EN
X-WR-TIMEZONE:America/Toronto
BEGIN:VEVENT
SUMMARY:Ephemeral immersive spaces workshop (SAT/Metalab)
DTSTART;TZID=America/Toronto;VALUE=DATE-TIME:20230203T084500
DTEND;TZID=America/Toronto;VALUE=DATE-TIME:20230203T160000
DTSTAMP;VALUE=DATE-TIME:20260423T070930Z
UID:42b2f8559e27439bb21cba7775e4f970@project_zeoclients
CONTACT:emeneses [AT] sat.qc.ca
CREATED;VALUE=DATE-TIME:20221205T205118Z
DESCRIPTION:A workshop in collaboration with CIRMMT's Research Axis 4 and 
 Metalab\, the research laboratory of the Society for Arts and Technology [
 SAT]
LAST-MODIFIED;VALUE=DATE-TIME:20230130T163123Z
LOCATION:A-832 (8th floor)\, 527 Sherbrooke O.
URL:https://www.cirmmt.org/en/events/workshops/research/immersive-spaces-w
 orkshop-sat
END:VEVENT
BEGIN:VTIMEZONE
TZID:America/Toronto
X-LIC-LOCATION:America/Toronto
BEGIN:STANDARD
DTSTART;VALUE=DATE-TIME:20221106T010000
TZNAME:EST
TZOFFSETFROM:-0400
TZOFFSETTO:-0500
END:STANDARD
END:VTIMEZONE
END:VCALENDAR
