BEGIN:VCALENDAR
VERSION:2.0
PRODID:-//Plone.org//NONSGML plone.app.event//EN
X-WR-TIMEZONE:America/Toronto
BEGIN:VEVENT
SUMMARY:The impact of digital technology on Instruments\, Performances\, N
 otations and Compositions - DAY 2
DTSTART;TZID=America/Toronto;VALUE=DATE-TIME:20230308T140000
DTEND;TZID=America/Toronto;VALUE=DATE-TIME:20230308T174500
DTSTAMP;VALUE=DATE-TIME:20260421T121833Z
UID:d316e353caa04bb796bc03f377175bfb@project_zeoclients
CONTACT:takuto.fukuda [AT] mail.mcgill.ca
CREATED;VALUE=DATE-TIME:20230206T164940Z
DESCRIPTION:A two-day workshop with DigiScore research team (Prof. Craig V
 ear and Dr. Solomiya Moroz) and Matthew Lane\, planned in conjunction with
  CIRMMT research Axes 1\, 2\, and 4.
LAST-MODIFIED;VALUE=DATE-TIME:20230306T145846Z
LOCATION:A-832 (8th floor)\, 527 Sherbrooke O.
URL:https://www.cirmmt.org/en/events/workshops/research/impact-digital-tec
 hnology-day2
END:VEVENT
BEGIN:VTIMEZONE
TZID:America/Toronto
X-LIC-LOCATION:America/Toronto
BEGIN:STANDARD
DTSTART;VALUE=DATE-TIME:20221106T010000
TZNAME:EST
TZOFFSETFROM:-0400
TZOFFSETTO:-0500
END:STANDARD
END:VTIMEZONE
END:VCALENDAR
