BEGIN:VCALENDAR
VERSION:2.0
PRODID:-//Plone.org//NONSGML plone.app.event//EN
X-WR-TIMEZONE:America/Toronto
BEGIN:VEVENT
SUMMARY:Electroacoustic improvisation workshop with Pamela Z
DTSTART;TZID=America/Toronto;VALUE=DATE-TIME:20230124T150000
DTEND;TZID=America/Toronto;VALUE=DATE-TIME:20230124T163000
DTSTAMP;VALUE=DATE-TIME:20260421T133402Z
UID:e897ab13fdda46b8aee44d8525c4a08b@project_zeoclients
CREATED;VALUE=DATE-TIME:20230116T173808Z
DESCRIPTION:A workshop with guest artist Pamela Z on electroacoustic impro
 visation at the Université de Montréal
LAST-MODIFIED;VALUE=DATE-TIME:20230123T144246Z
LOCATION:Salle Serge-Garant (B-484)\, Faculté de musique\, Université de
  Montréal\, 200 avenue Vincent-d'Indy
URL:https://www.cirmmt.org/en/events/workshops/research/improvisation-pame
 laz
END:VEVENT
BEGIN:VTIMEZONE
TZID:America/Toronto
X-LIC-LOCATION:America/Toronto
BEGIN:STANDARD
DTSTART;VALUE=DATE-TIME:20221106T010000
TZNAME:EST
TZOFFSETFROM:-0400
TZOFFSETTO:-0500
END:STANDARD
END:VTIMEZONE
END:VCALENDAR
