BEGIN:VCALENDAR
VERSION:2.0
PRODID:-//Plone.org//NONSGML plone.app.event//EN
X-WR-TIMEZONE:America/Toronto
BEGIN:VEVENT
SUMMARY:Feedback Day – 3rd edition
DTSTART;TZID=America/Toronto;VALUE=DATE-TIME:20241206T090000
DTEND;TZID=America/Toronto;VALUE=DATE-TIME:20241206T152000
DTSTAMP;VALUE=DATE-TIME:20260421T112823Z
UID:3d16dde997e444969433cbe03bf2b1ac@project_zeoclients
CONTACT:info[AT]cirmmt[DOT]org\, https://lfo-lab.ca/
CREATED;VALUE=DATE-TIME:20241101T155326Z
DESCRIPTION:Feedback Day is organized by Sabrina Caron and Merlin Campbell
  with the support of Dominic Thibault\, Laboratoire Formes·Ondes and CIRM
 MT.
LAST-MODIFIED;VALUE=DATE-TIME:20250414T141250Z
LOCATION:Multichannel studio B-187 (main floor)\, University of Montreal\,
  Faculty of Music Building\, 200 avenue Vincent-d'Indy
URL:https://www.cirmmt.org/en/events/workshops/research/jfb3-06-dec-2024
END:VEVENT
BEGIN:VTIMEZONE
TZID:America/Toronto
X-LIC-LOCATION:America/Toronto
BEGIN:STANDARD
DTSTART;VALUE=DATE-TIME:20241103T010000
TZNAME:EST
TZOFFSETFROM:-0400
TZOFFSETTO:-0500
END:STANDARD
END:VTIMEZONE
END:VCALENDAR
