BEGIN:VCALENDAR
VERSION:2.0
PRODID:-//Plone.org//NONSGML plone.app.event//EN
X-WR-TIMEZONE:America/Toronto
BEGIN:VEVENT
SUMMARY:LinkedMusic Workshop I: Music Databases
DTSTART;TZID=America/Toronto;VALUE=DATE-TIME:20221118T130000
DTEND;TZID=America/Toronto;VALUE=DATE-TIME:20221118T170000
DTSTAMP;VALUE=DATE-TIME:20260423T070939Z
UID:de609191cb784637a079fea40333566e@project_zeoclients
CONTACT:info[AT]cirmmt.org
CREATED;VALUE=DATE-TIME:20221018T151446Z
DESCRIPTION:This workshop is co-organized by CIRMMT Research Axis 2 (Music
  Information Research).
LAST-MODIFIED;VALUE=DATE-TIME:20221104T182944Z
LOCATION:A-832 (8th floor)\, 527 Sherbrooke O.
URL:https://www.cirmmt.org/en/events/workshops/research/linkedmusic-worksh
 op
END:VEVENT
BEGIN:VTIMEZONE
TZID:America/Toronto
X-LIC-LOCATION:America/Toronto
BEGIN:STANDARD
DTSTART;VALUE=DATE-TIME:20221106T010000
TZNAME:EST
TZOFFSETFROM:-0400
TZOFFSETTO:-0500
END:STANDARD
END:VTIMEZONE
END:VCALENDAR
