BEGIN:VCALENDAR
VERSION:2.0
PRODID:-//Plone.org//NONSGML plone.app.event//EN
X-WR-TIMEZONE:America/Toronto
BEGIN:VEVENT
SUMMARY:Workshop on spatial sound creation and improvisation with the Supe
 rCollider open source tool Live 4 Life
DTSTART;TZID=America/Toronto;VALUE=DATE-TIME:20231104T100000
DTEND;TZID=America/Toronto;VALUE=DATE-TIME:20231105T170000
DTSTAMP;VALUE=DATE-TIME:20260421T081801Z
UID:f330d9fa45f745099cc6f7e4f760d634@project_zeoclients
CONTACT:Christophe Lengelé\, lengele.christophe@courrier.uqam.ca
CREATED;VALUE=DATE-TIME:20231013T185549Z
DESCRIPTION:A workshop hosted by CIRMMT student member Christophe Lengelé
  in collaboration with Research Axis 1 (Instruments\, devices & systems).\
 n*Multiple dates of this workshop are offered - please see below*
LAST-MODIFIED;VALUE=DATE-TIME:20231018T141645Z
LOCATION:A-807\, 8th floor\, Elizabeth Wirth Music Building\, 527 Sherbroo
 ke O.
URL:https://www.cirmmt.org/en/events/workshops/research/live4life_workshop
 -nov23
END:VEVENT
BEGIN:VTIMEZONE
TZID:America/Toronto
X-LIC-LOCATION:America/Toronto
BEGIN:DAYLIGHT
DTSTART;VALUE=DATE-TIME:20230312T030000
TZNAME:EDT
TZOFFSETFROM:-0500
TZOFFSETTO:-0400
END:DAYLIGHT
BEGIN:STANDARD
DTSTART;VALUE=DATE-TIME:20231105T010000
TZNAME:EST
TZOFFSETFROM:-0400
TZOFFSETTO:-0500
END:STANDARD
END:VTIMEZONE
END:VCALENDAR
