BEGIN:VCALENDAR
VERSION:2.0
PRODID:-//Plone.org//NONSGML plone.app.event//EN
X-WR-TIMEZONE:America/Toronto
BEGIN:VEVENT
SUMMARY:LMCML@CIRMMT: Exploring electromagnetic field and light with sound
  | Exploration sonore du champ électromagnétique et de la lumière
DTSTART;TZID=America/Montreal;VALUE=DATE-TIME:20190607T130000
DTEND;TZID=America/Montreal;VALUE=DATE-TIME:20190607T160000
DTSTAMP;VALUE=DATE-TIME:20260421T163138Z
UID:becf3d05181b44ca973e70530488ff74@project_zeoclients
CREATED;VALUE=DATE-TIME:20210321T215555Z
DESCRIPTION:A workshop presented by the Montreal Contemporary Music Lab (M
 CML).\nUn atelier présenté par le Laboratoire de musique contemporaine d
 e Montréal (LMCM)
LAST-MODIFIED;VALUE=DATE-TIME:20210321T215555Z
LOCATION:Room A832\, Elizabeth Wirth Music Building\, 527 Sherbrooke St. W
 .
URL:https://www.cirmmt.org/en/events/workshops/research/lmcml-at-cirmmt/lm
 cml2019
END:VEVENT
BEGIN:VTIMEZONE
TZID:America/Montreal
X-LIC-LOCATION:America/Montreal
BEGIN:DAYLIGHT
DTSTART;VALUE=DATE-TIME:20190310T030000
TZNAME:EDT
TZOFFSETFROM:-0500
TZOFFSETTO:-0400
END:DAYLIGHT
END:VTIMEZONE
END:VCALENDAR
