BEGIN:VCALENDAR
VERSION:2.0
PRODID:-//Plone.org//NONSGML plone.app.event//EN
X-WR-TIMEZONE:America/Toronto
BEGIN:VEVENT
SUMMARY:Max for Live Workshop 
DTSTART;TZID=America/Montreal;VALUE=DATE-TIME:20160323T150000
DTEND;TZID=America/Montreal;VALUE=DATE-TIME:20160323T193000
DTSTAMP;VALUE=DATE-TIME:20260421T190611Z
UID:b073efe97f58409c9df821a849aef9fc@project_zeoclients
CREATED;VALUE=DATE-TIME:20210321T215555Z
DESCRIPTION:This workshop is organized by CIRMMT Research Axis 4 [Expanded
  musical practice]. It will be held in A832\, on 8th floor of the Elizabet
 h Wirth Music Building of McGill University. This workshop is free and ope
 n to all. Registration is required. / Cet atelier de recherche CIRMMT est 
 organisé par l’axe de recherche 4 – Pratiques musicales élargies. Il
  aura lieu au A832 situé au 8e étage du Pavillon de musique Elizabeth Wi
 rth de l’université McGill. L’atelier est gratuit et ouvert à tous\,
  cependant l’inscription est nécessaire puisque le nombre de place est 
 limité.
LAST-MODIFIED;VALUE=DATE-TIME:20210321T215556Z
LOCATION:A832\, Elizabeth Wirth Music Building\, 527 Sherbrooke St. West.
URL:https://www.cirmmt.org/en/events/workshops/research/max_for_live/max
END:VEVENT
BEGIN:VTIMEZONE
TZID:America/Montreal
X-LIC-LOCATION:America/Montreal
BEGIN:DAYLIGHT
DTSTART;VALUE=DATE-TIME:20160313T030000
TZNAME:EDT
TZOFFSETFROM:-0500
TZOFFSETTO:-0400
END:DAYLIGHT
END:VTIMEZONE
END:VCALENDAR
