BEGIN:VCALENDAR
VERSION:2.0
PRODID:-//Plone.org//NONSGML plone.app.event//EN
X-WR-TIMEZONE:America/Toronto
BEGIN:VEVENT
SUMMARY:Mimicry: Analyzing augmented works for percussions
DTSTART;TZID=America/Toronto;VALUE=DATE-TIME:20231013T143000
DTEND;TZID=America/Toronto;VALUE=DATE-TIME:20231013T163000
DTSTAMP;VALUE=DATE-TIME:20260424T053958Z
UID:a5624c6208034cbca47bea11dd9d9aa5@project_zeoclients
CONTACT:info [AT] cirmmt [DOT] org\, info@cirmmt.org
CREATED;VALUE=DATE-TIME:20231002T141127Z
DESCRIPTION:The workshop will be based on Mimétisme (2021) - a recent pie
 ce for percussions\, live electronics and live video processing\, composed
  by Örjan Sandred
LAST-MODIFIED;VALUE=DATE-TIME:20231002T150539Z
LOCATION:A-818 (8th floor)\, 527 Sherbrooke St W\, Montreal\, QC H3A 1E3
URL:https://www.cirmmt.org/en/events/workshops/research/mimetisme-workshop
END:VEVENT
BEGIN:VTIMEZONE
TZID:America/Toronto
X-LIC-LOCATION:America/Toronto
BEGIN:DAYLIGHT
DTSTART;VALUE=DATE-TIME:20230312T030000
TZNAME:EDT
TZOFFSETFROM:-0500
TZOFFSETTO:-0400
END:DAYLIGHT
END:VTIMEZONE
END:VCALENDAR
