BEGIN:VCALENDAR
VERSION:2.0
PRODID:-//Plone.org//NONSGML plone.app.event//EN
X-WR-TIMEZONE:America/Toronto
BEGIN:VEVENT
SUMMARY:How musicians breathe:  Laboratory and studio perspectives
DTSTART;TZID=America/Montreal;VALUE=DATE-TIME:20081127T173000
DTEND;TZID=America/Montreal;VALUE=DATE-TIME:20081127T190000
DTSTAMP;VALUE=DATE-TIME:20260422T030815Z
UID:11fb2c7ac5134e2eb95ce1c05512b927@project_zeoclients
CREATED;VALUE=DATE-TIME:20210321T215558Z
DESCRIPTION:Roundtable discussion\, moderated by Don McLean.
LAST-MODIFIED;VALUE=DATE-TIME:20210321T215558Z
LOCATION:Tanna Schulich Hall\, 527 Sherbrooke St. West
URL:https://www.cirmmt.org/en/events/workshops/research/musicians-breath
END:VEVENT
BEGIN:VTIMEZONE
TZID:America/Montreal
X-LIC-LOCATION:America/Montreal
BEGIN:STANDARD
DTSTART;VALUE=DATE-TIME:20081102T010000
TZNAME:EST
TZOFFSETFROM:-0400
TZOFFSETTO:-0500
END:STANDARD
END:VTIMEZONE
END:VCALENDAR
