BEGIN:VCALENDAR
VERSION:2.0
PRODID:-//Plone.org//NONSGML plone.app.event//EN
X-WR-TIMEZONE:America/Toronto
BEGIN:VEVENT
SUMMARY:Workshop on Musicians' Hearing Health
DTSTART;TZID=America/Toronto;VALUE=DATE-TIME:20220511T103000
DTEND;TZID=America/Toronto;VALUE=DATE-TIME:20220511T150000
DTSTAMP;VALUE=DATE-TIME:20260421T134449Z
UID:4c49f8ef8bbd47fda909c8a5edd03494@project_zeoclients
CONTACT:isabelle.cossette [AT] mcgill.ca
CREATED;VALUE=DATE-TIME:20220502T160431Z
DESCRIPTION:Research Axis 3 hosts a workshop to discuss the prevalence of 
 hearing health related issues musicians are facing\, the current and futur
 e development of active hearing protectors\, as well as hearing conservati
 on programs.
LAST-MODIFIED;VALUE=DATE-TIME:20220524T175645Z
LOCATION:C-201\, 555 rue Sherbrooke Ouest (to be confirmed)
URL:https://www.cirmmt.org/en/events/workshops/research/musicians-hearing-
 health
END:VEVENT
BEGIN:VTIMEZONE
TZID:America/Toronto
X-LIC-LOCATION:America/Toronto
BEGIN:DAYLIGHT
DTSTART;VALUE=DATE-TIME:20220313T030000
TZNAME:EDT
TZOFFSETFROM:-0500
TZOFFSETTO:-0400
END:DAYLIGHT
END:VTIMEZONE
END:VCALENDAR
