BEGIN:VCALENDAR
VERSION:2.0
PRODID:-//Plone.org//NONSGML plone.app.event//EN
X-WR-TIMEZONE:America/Toronto
BEGIN:VEVENT
SUMMARY:New MMR - Breakfast meeting
DTSTART;TZID=America/Montreal;VALUE=DATE-TIME:20171020T083000
DTEND;TZID=America/Montreal;VALUE=DATE-TIME:20171020T100000
DTSTAMP;VALUE=DATE-TIME:20260421T180406Z
UID:e7abc165f5ea4b9aa6805380d80f7114@project_zeoclients
CREATED;VALUE=DATE-TIME:20210321T215559Z
DESCRIPTION:New MMR infrastructure and collaborations opportunities betwee
 n CIRMMT members and external partners. This Research Axis 1 (Instruments\
 , devices and systems) workshop is free and open to all. Registration is r
 equired.
LAST-MODIFIED;VALUE=DATE-TIME:20210321T215559Z
LOCATION:A832\, Elizabeth Wirth Music Building\, 527 Sherbrooke St. West
URL:https://www.cirmmt.org/en/events/workshops/research/new-mmr-breakfast-
 meeting/new-mmr
END:VEVENT
BEGIN:VTIMEZONE
TZID:America/Montreal
X-LIC-LOCATION:America/Montreal
BEGIN:DAYLIGHT
DTSTART;VALUE=DATE-TIME:20170312T030000
TZNAME:EDT
TZOFFSETFROM:-0500
TZOFFSETTO:-0400
END:DAYLIGHT
END:VTIMEZONE
END:VCALENDAR
