BEGIN:VCALENDAR
VERSION:2.0
PRODID:-//Plone.org//NONSGML plone.app.event//EN
X-WR-TIMEZONE:America/Toronto
BEGIN:VEVENT
SUMMARY:[ONLINE] Spatial audio processing for sound and music applications
DTSTART;TZID=America/Toronto;VALUE=DATE-TIME:20210226T140000
DTEND;TZID=America/Toronto;VALUE=DATE-TIME:20210226T170000
DTSTAMP;VALUE=DATE-TIME:20260421T151434Z
UID:c333cccc98194c6eb949b2f33e88b8f6@project_zeoclients
CREATED;VALUE=DATE-TIME:20241113T161619Z
DESCRIPTION:This RA1 workshop is open to the general public with no regist
 ration required. It will take place on Zoom.
LAST-MODIFIED;VALUE=DATE-TIME:20241113T162158Z
LOCATION:Online
URL:https://www.cirmmt.org/en/events/workshops/research/online-spatial-aud
 io-processing-for-sound-and-music-applications
END:VEVENT
BEGIN:VTIMEZONE
TZID:America/Toronto
X-LIC-LOCATION:America/Toronto
BEGIN:STANDARD
DTSTART;VALUE=DATE-TIME:20201101T010000
TZNAME:EST
TZOFFSETFROM:-0400
TZOFFSETTO:-0500
END:STANDARD
END:VTIMEZONE
END:VCALENDAR
