BEGIN:VCALENDAR
VERSION:2.0
PRODID:-//Plone.org//NONSGML plone.app.event//EN
X-WR-TIMEZONE:America/Toronto
BEGIN:VEVENT
SUMMARY:Q&A with Morton Subotnick
DTSTART;TZID=America/Toronto;VALUE=DATE-TIME:20220321T180000
DTEND;TZID=America/Toronto;VALUE=DATE-TIME:20220321T190000
DTSTAMP;VALUE=DATE-TIME:20260421T150942Z
UID:bb9548480ed946859ea2173da40ed829@project_zeoclients
CONTACT:cirmmt.info [AT] mcgill.ca
CREATED;VALUE=DATE-TIME:20220315T151319Z
DESCRIPTION:A live discussion and Q&A period with acclaimed electronic com
 poser\, Morton Subotnick (USA)\, presented in collaboration with MUTEK and
  Akousma.
LAST-MODIFIED;VALUE=DATE-TIME:20220317T143720Z
LOCATION:A-832 (8th floor)\, Elizabeth Wirth Music Building\, 527 Rue Sher
 brooke Ouest
URL:https://www.cirmmt.org/en/events/workshops/research/qa-morton-subotnic
 k
END:VEVENT
BEGIN:VTIMEZONE
TZID:America/Toronto
X-LIC-LOCATION:America/Toronto
BEGIN:DAYLIGHT
DTSTART;VALUE=DATE-TIME:20220313T030000
TZNAME:EDT
TZOFFSETFROM:-0500
TZOFFSETTO:-0400
END:DAYLIGHT
END:VTIMEZONE
END:VCALENDAR
