BEGIN:VCALENDAR
VERSION:2.0
PRODID:-//Plone.org//NONSGML plone.app.event//EN
X-WR-TIMEZONE:America/Toronto
BEGIN:VEVENT
SUMMARY:Quasar quatuor de saxophones série électro\, Ateliers de créati
 on automne 2015 / Quasar saxophone quartet electro series\, Fall 2015 crea
 tive workshop
DTSTART;TZID=America/Montreal;VALUE=DATE-TIME:20151023T170000
DTEND;TZID=America/Montreal;VALUE=DATE-TIME:20151023T193000
DTSTAMP;VALUE=DATE-TIME:20260421T204146Z
UID:533ba840ed6342fb8a2bc0f3cd522f3e@project_zeoclients
CREATED;VALUE=DATE-TIME:20210321T215601Z
DESCRIPTION:This workshop is organized by Quasar and will be held in MMR i
 n the Elizabeth Wirth Music Building of McGill University. This workshop i
 s free and open to all. Registration is required.
LAST-MODIFIED;VALUE=DATE-TIME:20210321T215601Z
LOCATION:MMR\, Elizabeth Wirth Music Building\, 527 Sherbrooke St. West.
URL:https://www.cirmmt.org/en/events/workshops/research/quasar_workshop/hp
 p
END:VEVENT
BEGIN:VTIMEZONE
TZID:America/Montreal
X-LIC-LOCATION:America/Montreal
BEGIN:DAYLIGHT
DTSTART;VALUE=DATE-TIME:20150308T030000
TZNAME:EDT
TZOFFSETFROM:-0500
TZOFFSETTO:-0400
END:DAYLIGHT
END:VTIMEZONE
END:VCALENDAR
