BEGIN:VCALENDAR
VERSION:2.0
PRODID:-//Plone.org//NONSGML plone.app.event//EN
X-WR-TIMEZONE:America/Toronto
BEGIN:VEVENT
SUMMARY:Workshop on education in acoustics
DTSTART;TZID=America/Montreal;VALUE=DATE-TIME:20190321T090000
DTEND;TZID=America/Montreal;VALUE=DATE-TIME:20190321T123000
DTSTAMP;VALUE=DATE-TIME:20260421T180155Z
UID:5d7f48020f44448db0c43ff1bd4463d9@project_zeoclients
CREATED;VALUE=DATE-TIME:20210321T215602Z
DESCRIPTION:A workshop presented by Research Axis 1 (Instruments\, devices
  and systems).
LAST-MODIFIED;VALUE=DATE-TIME:20210321T215602Z
LOCATION:Room A832\, Elizabeth Wirth Music Building\, 527 Sherbrooke St. W
 .
URL:https://www.cirmmt.org/en/events/workshops/research/ra1-210319/educati
 onacoustics
END:VEVENT
BEGIN:VTIMEZONE
TZID:America/Montreal
X-LIC-LOCATION:America/Montreal
BEGIN:DAYLIGHT
DTSTART;VALUE=DATE-TIME:20190310T030000
TZNAME:EDT
TZOFFSETFROM:-0500
TZOFFSETTO:-0400
END:DAYLIGHT
END:VTIMEZONE
END:VCALENDAR
