BEGIN:VCALENDAR
VERSION:2.0
PRODID:-//Plone.org//NONSGML plone.app.event//EN
X-WR-TIMEZONE:America/Toronto
BEGIN:VEVENT
SUMMARY:Workshop on sound focus in video games
DTSTART;TZID=America/Toronto;VALUE=DATE-TIME:20230206T100000
DTEND;TZID=America/Toronto;VALUE=DATE-TIME:20230206T123000
DTSTAMP;VALUE=DATE-TIME:20260421T134359Z
UID:9ddbb3e02bfa486d813e5eb01799328f@project_zeoclients
CONTACT:info[AT]cirmmt.org
CREATED;VALUE=DATE-TIME:20230110T163525Z
DESCRIPTION:An event organized in collaboration with Research Axis 1 (Inst
 ruments\, devices & systems)
LAST-MODIFIED;VALUE=DATE-TIME:20230203T142111Z
LOCATION:C-204\, 555 Sherbrooke O.
URL:https://www.cirmmt.org/en/events/workshops/research/ra1-sound-videogam
 es
END:VEVENT
BEGIN:VTIMEZONE
TZID:America/Toronto
X-LIC-LOCATION:America/Toronto
BEGIN:STANDARD
DTSTART;VALUE=DATE-TIME:20221106T010000
TZNAME:EST
TZOFFSETFROM:-0400
TZOFFSETTO:-0500
END:STANDARD
END:VTIMEZONE
END:VCALENDAR
